BEGIN:VCALENDAR
VERSION:2.0
PRODID:-//Food &amp; Drink Matters - ECPv6.15.20//NONSGML v1.0//EN
CALSCALE:GREGORIAN
METHOD:PUBLISH
X-ORIGINAL-URL:https://foodanddrinkmatters.co.uk
X-WR-CALDESC:Events for Food &amp; Drink Matters
REFRESH-INTERVAL;VALUE=DURATION:PT1H
X-Robots-Tag:noindex
X-PUBLISHED-TTL:PT1H
BEGIN:VTIMEZONE
TZID:Europe/London
BEGIN:DAYLIGHT
TZOFFSETFROM:+0000
TZOFFSETTO:+0100
TZNAME:BST
DTSTART:20250330T010000
END:DAYLIGHT
BEGIN:STANDARD
TZOFFSETFROM:+0100
TZOFFSETTO:+0000
TZNAME:GMT
DTSTART:20251026T010000
END:STANDARD
BEGIN:DAYLIGHT
TZOFFSETFROM:+0000
TZOFFSETTO:+0100
TZNAME:BST
DTSTART:20260329T010000
END:DAYLIGHT
BEGIN:STANDARD
TZOFFSETFROM:+0100
TZOFFSETTO:+0000
TZNAME:GMT
DTSTART:20261025T010000
END:STANDARD
BEGIN:DAYLIGHT
TZOFFSETFROM:+0000
TZOFFSETTO:+0100
TZNAME:BST
DTSTART:20270328T010000
END:DAYLIGHT
BEGIN:STANDARD
TZOFFSETFROM:+0100
TZOFFSETTO:+0000
TZNAME:GMT
DTSTART:20271031T010000
END:STANDARD
BEGIN:DAYLIGHT
TZOFFSETFROM:+0000
TZOFFSETTO:+0100
TZNAME:BST
DTSTART:20280326T010000
END:DAYLIGHT
BEGIN:STANDARD
TZOFFSETFROM:+0100
TZOFFSETTO:+0000
TZNAME:GMT
DTSTART:20281029T010000
END:STANDARD
END:VTIMEZONE
BEGIN:VEVENT
DTSTART;TZID=Europe/London:20260310T090000
DTEND;TZID=Europe/London:20260311T180000
DTSTAMP:20260421T122546
CREATED:20250502T112718Z
LAST-MODIFIED:20250502T112718Z
UID:3716-1773133200-1773252000@foodanddrinkmatters.co.uk
SUMMARY:Northern Restaurant & Bar Show 2026
DESCRIPTION:Bringing Hospitality Together\n\nNorthern Restaurant & Bar is the North’s leading hospitality trade event. Bringing together over 12\,100 visitors and 400+ exhibitors\, NRB is an unmissable date in your diary.\n\nJoin your industry on 10th-11th March 2026 at Manchester Central. \nRegister you interest
URL:https://foodanddrinkmatters.co.uk/event/northern-restaurant-bar-show-2026/
LOCATION:Manchester Central\, Windmill Street\, Manchester\, M2 3GX\, United Kingdom
ATTACH;FMTTYPE=image/jpeg:https://foodanddrinkmatters.co.uk/wp-content/uploads/2025/05/NorthernRestaurantBarShow2026_Event.jpg
ORGANIZER;CN="Diversified Communications":MAILTO:info@divcom.co.uk
END:VEVENT
BEGIN:VEVENT
DTSTART;TZID=Europe/London:20260318T090000
DTEND;TZID=Europe/London:20260319T170000
DTSTAMP:20260421T122546
CREATED:20250624T105209Z
LAST-MODIFIED:20250624T105209Z
UID:3786-1773824400-1773939600@foodanddrinkmatters.co.uk
SUMMARY:BeerX
DESCRIPTION:BeerX UK goes beyond showcasing products and celebrating achievements; it is a hub of knowledge exchange. With a packed schedule of seminars\, talks\, and panel debates\, the event features some of the most respected voices in the beer industry. Topics range from brewing techniques to marketing strategies and sustainability practices\, offering attendees invaluable insights that they can apply to their own businesses. \nFrom hops to state-of-the-art brewing equipment\, the trade show is a treasure trove of innovation\, allowing attendees to discover the latest trends and technologies shaping the industry. It’s a unique opportunity for industry professionals to connect and engage with suppliers\, creating relationships that can lead to future collaborations. \nThe event proudly showcases the independent beer and business awards presentations\, where the best of the best in the brewing industry are honoured. These awards recognize outstanding achievements\, quality brews\, and innovations within the sector\, shining a spotlight on the incredible talents that drive the industry forward. It’s a moment of pride for both established breweries and up-and-coming talent\, celebrating the hard work and dedication of those who contribute to the rich tapestry of UK brewing. \nBeerX UK is also the platform for critical decision-making in the brewing community\, featuring the Society of Independent Brewers’ (SIBA) Annual General Meeting (AGM) and Members’ Conference. This important gathering addresses key issues facing the industry\, providing a forum for discussion and strategy development. Members gather not just to vote on significant matters but to share insights and experiences that can influence the future of independent brewing in the UK.
URL:https://foodanddrinkmatters.co.uk/event/beerx/
LOCATION:Exhibition Centre Liverpool\, King's Dock\, Liverpool Waterfront\, L3 4FP\, United Kingdom
ATTACH;FMTTYPE=image/jpeg:https://foodanddrinkmatters.co.uk/wp-content/uploads/2025/06/BeerX_185_01.jpg
ORGANIZER;CN="SIBA":MAILTO:events@siba.co.uk
END:VEVENT
BEGIN:VEVENT
DTSTART;TZID=Europe/London:20260324T090000
DTEND;TZID=Europe/London:20260326T170000
DTSTAMP:20260421T122546
CREATED:20260212T104905Z
LAST-MODIFIED:20260212T104905Z
UID:4003-1774342800-1774544400@foodanddrinkmatters.co.uk
SUMMARY:LogiMAT 2026
DESCRIPTION:LogiMAT\, the International Trade Show for Intralogistics Solutions and Process Management\, sets new standards as the biggest annual intralogistics exhibition in Europe. This is the leading international trade fair that provides a comprehensive market overview and competent knowledge-transfer. \nHow can companies best manage the raw material of the future – “data” – efficiently and securely? \nHow can interfaces between operatives\, production resources and intelligent robot assistants be defined\, in order to optimise the workplace? \nHow can virtual reality help in making key decisions on future investment? \nThe technologies needed for intralogistics solutions and process management are in focus at LogiMAT. \nMEET THE MARKET IN STUTTGART!\nThe ever-changing markets require flexible and innovative logistics. Processes must be continuously monitored and optimized. This requires a sensitive awareness of an abundance of offerings to identify the products and solutions that you just optimize your internal processes. \nLogiMAT provides the trade audience with a comprehensive review of all the main themes in the sector\, from procurement to production and deliveries. \nAt the start of the year international exhibitors showcase innovative technologies\, products\, systems and solutions for rationalisation\, process optimisation and cost-reduction of in-company logistics processes.
URL:https://foodanddrinkmatters.co.uk/event/logimat-2026/
LOCATION:Stuttgart Trade Fair Centre\, Messepiazza 1 70629\, Stuttgart\, Germany
ATTACH;FMTTYPE=image/jpeg:https://foodanddrinkmatters.co.uk/wp-content/uploads/2026/02/LogiMATTradeShow_Event.jpg
ORGANIZER;CN="Euroexpo Messe Und Kongress GmbH":MAILTO:management@euroexpo.de
END:VEVENT
BEGIN:VEVENT
DTSTART;TZID=Europe/London:20260330T100000
DTEND;TZID=Europe/London:20260401T160000
DTSTAMP:20260421T122546
CREATED:20250529T073706Z
LAST-MODIFIED:20250529T073706Z
UID:3767-1774864800-1775059200@foodanddrinkmatters.co.uk
SUMMARY:IFE International Food & Drink Event
DESCRIPTION:IFE is the UK’s largest and most successful product sourcing platform and takes place on 30 March – 01 April 2026 at Excel London as part of Food\, Drink & Hospitality Week. \nMeet face-to-face and showcase your products to buyers across retail\, wholesale\, import/export\, and hospitality who are actively on the hunt for the latest innovations across food and drink. \nWith 15 dedicated event sections divided by product category across the show floor\, you know relevant buyers will find you with ease. \nGet in touch for the IFE brochure to find out what opportunities are available to help grow your business in 2026 and beyond.
URL:https://foodanddrinkmatters.co.uk/event/ife-international-food-drink-event/
LOCATION:ExCeL London\, Royal Victoria Dock\, 1 Western Gateway\, Royal Docks\, London\, E16 1XL\, United Kingdom
ATTACH;FMTTYPE=image/jpeg:https://foodanddrinkmatters.co.uk/wp-content/uploads/2025/05/IFE_184_01.jpg
ORGANIZER;CN="Montgomery Group":MAILTO:info@montgomerygroup.com
END:VEVENT
BEGIN:VEVENT
DTSTART;TZID=Europe/London:20260330T100000
DTEND;TZID=Europe/London:20260401T160000
DTSTAMP:20260421T122546
CREATED:20250723T102728Z
LAST-MODIFIED:20250723T120915Z
UID:3812-1774864800-1775059200@foodanddrinkmatters.co.uk
SUMMARY:HRC Hotel\, Restaurant & Catering
DESCRIPTION:HRC returns from 30 March – 1 April 2026 at Excel London\, and the industry’s best and boldest are bringing the heat. As the centrepiece of Food\, Drink & Hospitality Week\, HRC is where the brightest brands serve up their latest and greatest to 25\,000+ hungry buyers ready to dish out serious business. \nHRC gives brand owners the perfect opportunity to showcase their products to a quality audience of 25\,000 UK and international buyers. \nThinking of joining the line-up? Browse the 2025 exhibitor list to see who’s already prepping their stations across foodservice\, tech\, kitchen equipment\, design\, and more. \nDon’t get FOMO – request the HRC brochure now to find out what opportunities are available to help grow your business in 2025 and beyond. \nWant to be the name on everyone’s lips? HRC sponsorships are cooked to perfection—boosting your brand presence from pre-show whispers to centre-stage buzz. \nFood\, Drink & Hospitality Week unites IFE Manufacturing\, IFE\, HRC\, The Pub Show\, Hospitality Tech360 and International Salon Culinaire as the UK’s biggest celebration of industry innovation.
URL:https://foodanddrinkmatters.co.uk/event/hotel-restaurant-catering/
LOCATION:ExCeL London\, Royal Victoria Dock\, 1 Western Gateway\, Royal Docks\, London\, E16 1XL\, United Kingdom
ATTACH;FMTTYPE=image/jpeg:https://foodanddrinkmatters.co.uk/wp-content/uploads/2025/07/HotelRestaurantCatering_186_01.jpg
ORGANIZER;CN="Montgomery Group":MAILTO:info@montgomerygroup.com
END:VEVENT
BEGIN:VEVENT
DTSTART;TZID=Europe/London:20260413T100000
DTEND;TZID=Europe/London:20260415T160000
DTSTAMP:20260421T122546
CREATED:20250528T155455Z
LAST-MODIFIED:20250528T155633Z
UID:3764-1776074400-1776268800@foodanddrinkmatters.co.uk
SUMMARY:Farm Shop & Deli Show
DESCRIPTION:Experience the best quality local and regional produce\, plus the latest in equipment\, labelling and packaging solutions from many outstanding suppliers. Over 3 days\, the Farm Shop & Deli Show will be packed with new launches\, exciting live events and sessions\, and trend-setting food and drink. \nIn 2026 Farm Shop & Deli Show will run alongside Food & Drink Expo\, National Convenience Show and The Forecourt Show as part of the award-winning UK Food & Drink Shows – one ticket will provide access to all four shows. #FSD2026
URL:https://foodanddrinkmatters.co.uk/event/farm-shop-deli-show-2/
LOCATION:NEC\, Pendigo Way\, Marston Green\, Birmingham\, B40 1NT\, United Kingdom
ATTACH;FMTTYPE=image/jpeg:https://foodanddrinkmatters.co.uk/wp-content/uploads/2025/05/FarmShopDeliShow_184_01.jpg
END:VEVENT
BEGIN:VEVENT
DTSTART;TZID=Europe/London:20260514T090000
DTEND;TZID=Europe/London:20260517T170000
DTSTAMP:20260421T122546
CREATED:20250624T084101Z
LAST-MODIFIED:20250624T084101Z
UID:3783-1778749200-1779037200@foodanddrinkmatters.co.uk
SUMMARY:The London Coffee Festival
DESCRIPTION:Get ready for caffeine fuelled fun at The London Coffee Festival\, the ultimate hotspot for coffee enthusiasts and hospitality aficionados. \nMark your calendars for the festival at The Truman Brewery from 14-17 May 2026. \n\nThe London Coffee Festival is the world’s greatest coffee and hospitality event\, embracing London’s bustling coffee scene and its creative subcultures. \nWith more than 22\,000 visitors in 2024 the event showcases London’s pioneering specialty coffee culture and first-class hospitality industry and confirms the capital’s place as one of the most advanced coffee cities on earth. \nThe event features over 260 artisan coffee and gourmet food brands\, tastings and demonstrations from world-class baristas\, interactive workshops\, street food\, coffee-based cocktails\, music\, art exhibitions and an educational Lab programme. \nWith two dedicated industry days and a full weekend of coffee celebration\, The London Coffee Festival has something for everyone. \nThe London Coffee Festival also hosts global barista tournament Coffee Masters™ and boasts an array of experiential features such as Latte Art Live\, The Lab\, The Roasters Village\, Brew School\, cocktail masterclass and more.
URL:https://foodanddrinkmatters.co.uk/event/the-london-coffee-festival-2/
LOCATION:The Truman Brewery\, Brick Lane\, London\, E1 6QR\, United Kingdom
ATTACH;FMTTYPE=image/jpeg:https://foodanddrinkmatters.co.uk/wp-content/uploads/2025/06/LondonCoffeeFestival_185_01.jpg
END:VEVENT
BEGIN:VEVENT
DTSTART;TZID=Europe/London:20260616T084500
DTEND;TZID=Europe/London:20260616T164500
DTSTAMP:20260421T122546
CREATED:20250930T145358Z
LAST-MODIFIED:20250930T145358Z
UID:3860-1781599500-1781628300@foodanddrinkmatters.co.uk
SUMMARY:Sustainable Food Factory
DESCRIPTION:As environmental responsibility becomes an ever-greater priority\, food and beverage manufacturers face a crucial challenge: creating more sustainable manufacturing and supply chain operations. \nThe Sustainable Food Factory Conference and Exhibition can help. \nThis one-day event is designed for senior decision-makers responsible for decarbonising food and beverage operations. \nWe bring together the UK’s value chain to learn\, collaborate\, network and share best practices in sustainable food and beverage operations. \nThe Conference\n\nTailored for the needs of food and beverage sustainability professionals.\nContent-rich with presentations and interactive panel discussions.\nWorld-class content delivered by low-carbon experts.\nLatest sustainability thinking to keep you informed and moving forward.\nFree-to-attend for food and beverage manufacturers.\n\nThe Exhibition\n\nLearn from peers and other experts how to transform your supply chain.\nDiscover innovative solutions to help you overcome your sustainability challenges.\nFind out how technology can help you reach your sustainable manufacturing goals.\nMeet best-in-class exhibitors who can accelerate your decarbonisation journey.\nExplore how to boost efficiency\, reduce waste and improve your bottom line.\n\nLearn from industry leaders and discover how your peers navigate their sustainability challenges. \nGain actionable insights – from informative presentations and thought-provoking panel debates – to implement in your business. \nConnect with leading exhibitors and find the latest products\, services and technologies to help you achieve and surpass your sustainability goals.
URL:https://foodanddrinkmatters.co.uk/event/sustainable-food-factory/
LOCATION:Derby Arena\, Royal Way\, Pride Park\, Derby\, Derbyshire\, DE24 8JB\, United Kingdom
ATTACH;FMTTYPE=image/jpeg:https://foodanddrinkmatters.co.uk/wp-content/uploads/2025/09/SustainableFoodFactory_188_02.jpg
ORGANIZER;CN="Curious Heads Media":MAILTO:hello@curiousheadsmedia.co.uk
END:VEVENT
BEGIN:VEVENT
DTSTART;TZID=Europe/London:20260916T090000
DTEND;TZID=Europe/London:20260917T170000
DTSTAMP:20260421T122546
CREATED:20250722T155457Z
LAST-MODIFIED:20250722T155457Z
UID:3809-1789549200-1789664400@foodanddrinkmatters.co.uk
SUMMARY:Natural & Organic Food Show
DESCRIPTION:The Definitive Trade Event for Natural\, Organic\,Plant Based and Free-From F&B \nFrom organic food\, to functional drinks\, or the latest in plant-based. The Natural & Organic Food Show is the home of products you cannot find anywhere else. \nSince 1997 this has been the place for buyers from across the retail\, hospitality\, foodservice\, manufacturing\, import & export sectors to discover new products. And will take place alongside lunch! and The National Restaurant\, Pub & Bar Show at Excel London 16-17 September 2026. \nThe Natural & Organic Food show is where companies do business. It’s the perfect stage for trend-setters to showcase product launches and buyers to get ahead of the latest trends. \nWhether you’re looking for product inspiration\, to make new contacts\, or you want to learn the latest trends and insights from top industry experts\, you’ll gain a wealth of ideas.
URL:https://foodanddrinkmatters.co.uk/event/natural-organic-food-show/
LOCATION:ExCeL London\, Royal Victoria Dock\, 1 Western Gateway\, Royal Docks\, London\, E16 1XL\, United Kingdom
ATTACH;FMTTYPE=image/jpeg:https://foodanddrinkmatters.co.uk/wp-content/uploads/2025/07/NaturalFoodExpo_186_02.jpg
ORGANIZER;CN="Diversified Communications":MAILTO:info@divcom.co.uk
END:VEVENT
BEGIN:VEVENT
DTSTART;TZID=Europe/London:20260922T093000
DTEND;TZID=Europe/London:20260924T160000
DTSTAMP:20260421T122546
CREATED:20251029T144442Z
LAST-MODIFIED:20251029T144543Z
UID:3896-1790069400-1790265600@foodanddrinkmatters.co.uk
SUMMARY:PPMA Show 2026
DESCRIPTION:BIG names\, Exciting innovations\, Great opportunities. It’s all coming your way at the UK’s leading free-to-attend processing and packaging machinery event – The PPMA Show® 2026 held at Birmingham’s NEC from 22-24 September 2026. \nExplore the very latest in machinery\, robotics\, vision systems\, and automation\, as well as state-of-the-art materials\, containers\, and packaging design all under one roof. \nSee real-world capabilities and get hands-on with solutions tailored to your production needs. \nGain actionable insights from industry leaders on topics like sustainability\, smart manufacturing\, and operational efficiency. \nMeet peers\, suppliers\, and industry experts to exchange ideas and foster collaborations.
URL:https://foodanddrinkmatters.co.uk/event/ppma-show-2026/
LOCATION:NEC\, Pendigo Way\, Marston Green\, Birmingham\, B40 1NT\, United Kingdom
ATTACH;FMTTYPE=image/jpeg:https://foodanddrinkmatters.co.uk/wp-content/uploads/2025/10/PPMATotal2025_189_01.jpg
ORGANIZER;CN="Automate UK":MAILTO:info@automate-uk.com
END:VEVENT
BEGIN:VEVENT
DTSTART;TZID=Europe/London:20270224T100000
DTEND;TZID=Europe/London:20270225T160000
DTSTAMP:20260421T122546
CREATED:20260309T151735Z
LAST-MODIFIED:20260309T151735Z
UID:4054-1803463200-1803571200@foodanddrinkmatters.co.uk
SUMMARY:Packaging Innovations & Empack
DESCRIPTION:Packaging Innovations & Empack – co-located with Contract Pack & Fulfilment\, brings together the full packaging journey\, from concept and design through to manufacturing\, packing\, and delivery. \nAcross three connected events\, the show unites packaging designers\, technologists\, manufacturers\, operations leads\, and brand owners who are shaping what’s next for packaging in the UK and beyond. \nFor over 20 years\, it’s been the meeting place where ideas turn into solutions – and where innovation meets practicality\, sustainability\, and scale. \nWe believe packaging is more than a container – it’s a powerful force for creativity\, connection\, and change. \nOur purpose is to accelerate progress across the entire packaging value chain by connecting people\, ideas\, and technologies that make packaging smarter\, cleaner\, and more efficient. \nPackaging Innovations is where the packaging community comes together to explore\, discover\, and connect. Over two days\, you’ll meet suppliers pushing the boundaries in materials and design\, see how sustainability is driving change\, and hear from experts tackling policy\, accessibility\, and innovation. \nWhether you’re a brand owner looking for packaging that stands out on the shelf\, a designer seeking fresh inspiration\, or a sustainability lead searching for practical solutions\, Packaging Innovations gives you direct access to the people\, products\, and knowledge shaping the future of packaging. \nEmpack is where packaging technology comes to life. Over two days\, you’ll discover the latest machinery\, automation\, and processing solutions that can transform your operations. From robotics to end-of-line systems\, this is your chance to see innovation in action and meet the suppliers shaping the future of packaging lines. \nWhether you manage operations\, engineering\, or supply chain\, Empack gives you direct access to live demonstrations\, CPD-accredited learning\, and practical solutions designed to improve efficiency\, reduce costs\, and future-proof your production.
URL:https://foodanddrinkmatters.co.uk/event/packaging-innovations-empack/
LOCATION:NEC\, Pendigo Way\, Marston Green\, Birmingham\, B40 1NT\, United Kingdom
ATTACH;FMTTYPE=image/jpeg:https://foodanddrinkmatters.co.uk/wp-content/uploads/2026/03/PackagingInnovationsEmpack_193_01.jpg
END:VEVENT
END:VCALENDAR