BEGIN:VCALENDAR
VERSION:2.0
PRODID:-//Food &amp; Drink Matters - ECPv6.15.20//NONSGML v1.0//EN
CALSCALE:GREGORIAN
METHOD:PUBLISH
X-ORIGINAL-URL:https://foodanddrinkmatters.co.uk
X-WR-CALDESC:Events for Food &amp; Drink Matters
REFRESH-INTERVAL;VALUE=DURATION:PT1H
X-Robots-Tag:noindex
X-PUBLISHED-TTL:PT1H
BEGIN:VTIMEZONE
TZID:Europe/London
BEGIN:DAYLIGHT
TZOFFSETFROM:+0000
TZOFFSETTO:+0100
TZNAME:BST
DTSTART:20240331T010000
END:DAYLIGHT
BEGIN:STANDARD
TZOFFSETFROM:+0100
TZOFFSETTO:+0000
TZNAME:GMT
DTSTART:20241027T010000
END:STANDARD
BEGIN:DAYLIGHT
TZOFFSETFROM:+0000
TZOFFSETTO:+0100
TZNAME:BST
DTSTART:20250330T010000
END:DAYLIGHT
BEGIN:STANDARD
TZOFFSETFROM:+0100
TZOFFSETTO:+0000
TZNAME:GMT
DTSTART:20251026T010000
END:STANDARD
BEGIN:DAYLIGHT
TZOFFSETFROM:+0000
TZOFFSETTO:+0100
TZNAME:BST
DTSTART:20260329T010000
END:DAYLIGHT
BEGIN:STANDARD
TZOFFSETFROM:+0100
TZOFFSETTO:+0000
TZNAME:GMT
DTSTART:20261025T010000
END:STANDARD
END:VTIMEZONE
BEGIN:VEVENT
DTSTART;VALUE=DATE:20250701
DTEND;VALUE=DATE:20250702
DTSTAMP:20260422T030223
CREATED:20240923T090828Z
LAST-MODIFIED:20240923T090828Z
UID:3429-1751328000-1751414399@foodanddrinkmatters.co.uk
SUMMARY:Imbibe Live to become BCB London next year
DESCRIPTION:Starting in 2025\, Imbibe Live will become part of the global BCB network and will be renamed BCB London\, marking a significant shift in its role within the international bar and beverage industry trade shows. \n\nBCB London is set to become a key event for the global drinks sector\, particularly focusing on the UK and Irish markets. The exhibition will highlight a variety of high-quality spirits\, beers and other beverages\, featuring the latest products and providing educational opportunities while covering global industry trends. \nThe event intends to offer international companies the chance to enter these dynamic markets\, showcase their premium brands\, establish important on-trade and off-trade connections and engage with bar and beverage industry partners across the UK. Additionally\, national and regional companies will have the opportunity to network with decision-makers from both independent and group sectors. \nOn 1 and 2 July\, Imbibe Live attendees can visit the dedicated Sommelier Wine Awards stand to taste some of this year’s Gold Medal winners\, selected by a UK-wide judging panel of top sommeliers from leading restaurants. The competition\, which has returned after a pandemic-induced hiatus\, is unique as it is the only wine awards judged by sommeliers for sommeliers and on-trade buyers.
URL:https://foodanddrinkmatters.co.uk/event/imbibe-live-to-become-bcb-london-next-year/
LOCATION:Olympia London\, Hammersmith Rd\, London\, W14 8UX\, United Kingdom
ATTACH;FMTTYPE=image/jpeg:https://foodanddrinkmatters.co.uk/wp-content/uploads/2024/09/ImbibeLive2025_Event.jpg
ORGANIZER;CN="RX UK":MAILTO:rxinfo@rxglobal.com
END:VEVENT
END:VCALENDAR