BEGIN:VCALENDAR
VERSION:2.0
PRODID:-//Food &amp; Drink Matters - ECPv6.15.20//NONSGML v1.0//EN
CALSCALE:GREGORIAN
METHOD:PUBLISH
X-ORIGINAL-URL:https://foodanddrinkmatters.co.uk
X-WR-CALDESC:Events for Food &amp; Drink Matters
REFRESH-INTERVAL;VALUE=DURATION:PT1H
X-Robots-Tag:noindex
X-PUBLISHED-TTL:PT1H
BEGIN:VTIMEZONE
TZID:Europe/London
BEGIN:DAYLIGHT
TZOFFSETFROM:+0000
TZOFFSETTO:+0100
TZNAME:BST
DTSTART:20240331T010000
END:DAYLIGHT
BEGIN:STANDARD
TZOFFSETFROM:+0100
TZOFFSETTO:+0000
TZNAME:GMT
DTSTART:20241027T010000
END:STANDARD
BEGIN:DAYLIGHT
TZOFFSETFROM:+0000
TZOFFSETTO:+0100
TZNAME:BST
DTSTART:20250330T010000
END:DAYLIGHT
BEGIN:STANDARD
TZOFFSETFROM:+0100
TZOFFSETTO:+0000
TZNAME:GMT
DTSTART:20251026T010000
END:STANDARD
BEGIN:DAYLIGHT
TZOFFSETFROM:+0000
TZOFFSETTO:+0100
TZNAME:BST
DTSTART:20260329T010000
END:DAYLIGHT
BEGIN:STANDARD
TZOFFSETFROM:+0100
TZOFFSETTO:+0000
TZNAME:GMT
DTSTART:20261025T010000
END:STANDARD
END:VTIMEZONE
BEGIN:VEVENT
DTSTART;TZID=Europe/London:20250311T100000
DTEND;TZID=Europe/London:20250312T170000
DTSTAMP:20260421T124828
CREATED:20240722T144526Z
LAST-MODIFIED:20240722T144526Z
UID:3375-1741687200-1741798800@foodanddrinkmatters.co.uk
SUMMARY:Northern Restaurant & Bar
DESCRIPTION:Northern Restaurant & Bar is the North’s leading hospitality trade event. Bringing together over 9\,600 visitors and 300+ exhibitors\, NRB is an unmissable date in your diary.\n\nJoin your industry on 11-12 March 2025 at Manchester Central\, co-located with new show lunch! NORTH. \nDo business with passionate suppliers at NRB. They’ll be showcasing everything you need to improve your operations and delight your customers. \nWith hand-picked exhibitors\, exclusive interviews\, inspiring panel debates and thousands of new products\, a visit to NRB could be the single most important thing you do for your business!
URL:https://foodanddrinkmatters.co.uk/event/northern-restaurant-bar/
LOCATION:Manchester Central\, Windmill Street\, Manchester\, M2 3GX\, United Kingdom
ATTACH;FMTTYPE=image/jpeg:https://foodanddrinkmatters.co.uk/wp-content/uploads/2024/07/NorthernRestaurantBarShow_175_03.jpg
ORGANIZER;CN="Diversified Communications":MAILTO:info@divcom.co.uk
END:VEVENT
END:VCALENDAR