BEGIN:VCALENDAR
VERSION:2.0
PRODID:-//Food &amp; Drink Matters - ECPv6.15.20//NONSGML v1.0//EN
CALSCALE:GREGORIAN
METHOD:PUBLISH
X-WR-CALNAME:Food &amp; Drink Matters
X-ORIGINAL-URL:https://foodanddrinkmatters.co.uk
X-WR-CALDESC:Events for Food &amp; Drink Matters
REFRESH-INTERVAL;VALUE=DURATION:PT1H
X-Robots-Tag:noindex
X-PUBLISHED-TTL:PT1H
BEGIN:VTIMEZONE
TZID:Europe/London
BEGIN:DAYLIGHT
TZOFFSETFROM:+0000
TZOFFSETTO:+0100
TZNAME:BST
DTSTART:20230326T010000
END:DAYLIGHT
BEGIN:STANDARD
TZOFFSETFROM:+0100
TZOFFSETTO:+0000
TZNAME:GMT
DTSTART:20231029T010000
END:STANDARD
BEGIN:DAYLIGHT
TZOFFSETFROM:+0000
TZOFFSETTO:+0100
TZNAME:BST
DTSTART:20240331T010000
END:DAYLIGHT
BEGIN:STANDARD
TZOFFSETFROM:+0100
TZOFFSETTO:+0000
TZNAME:GMT
DTSTART:20241027T010000
END:STANDARD
BEGIN:DAYLIGHT
TZOFFSETFROM:+0000
TZOFFSETTO:+0100
TZNAME:BST
DTSTART:20250330T010000
END:DAYLIGHT
BEGIN:STANDARD
TZOFFSETFROM:+0100
TZOFFSETTO:+0000
TZNAME:GMT
DTSTART:20251026T010000
END:STANDARD
END:VTIMEZONE
BEGIN:VEVENT
DTSTART;TZID=Europe/London:20241009T090000
DTEND;TZID=Europe/London:20241010T170000
DTSTAMP:20260423T122403
CREATED:20240923T094055Z
LAST-MODIFIED:20240923T094055Z
UID:3446-1728464400-1728579600@foodanddrinkmatters.co.uk
SUMMARY:Cold Chain Hub 2024
DESCRIPTION:The ‘Cold Chain Hub by TCS&D’ is an established event for the temperature-controlled storage and distribution industry and is entirely focused on the movement of frozen and chilled foods\, and also pharmaceuticals. Unlike any other event\, the Cold Chain Hub by TCS&D is designed with innovation and technology at its core and will be promoting sustainability solutions for the cold chain sector. Powered by the industry leading magazines\, TCS&D and Frozen & Chilled Foods will attract the right audience. \nPromoting Sustainable Solutions for the Cold Chain. \nTCS&D Awards to be held concurrently\nThe TCS&D team have also decided to hold the annual TCS&D Awards – now in their 11th year – alongside the show once again\, which is expected to increase footfall further. The prestigious TCS&D Awards Dinner\, which celebrates innovation and excellence in the cold chain in a variety of categories\, will take place on Wednesday 9th October at the National Motorcycle Museum\, located opposite the NEC. \nA showcase for innovation and sustainability\nWith the theme of ‘Sustainability Solutions for the Cold Chain’\, TCS&D’s Cold Chain Hub 2024 will showcase a diverse range of exhibitors – from cold store constructors\, temperature-controlled operators and rental/contract hire specialists to suppliers of protective clothing\, temperature-monitoring solutions and refrigerated vehicles. A large outside area will also be available to accommodate the latest innovations in portable cold stores and refrigerated trailers\, rigids and panel vans\, including electric vehicles. In addition\, TCS&D’s Cold Chain Hub 2024 will host the next meeting of the Women in Cold Chain initiative.
URL:https://foodanddrinkmatters.co.uk/event/cold-chain-hub-2024/
LOCATION:NEC\, Pendigo Way\, Marston Green\, Birmingham\, B40 1NT\, United Kingdom
ATTACH;FMTTYPE=image/jpeg:https://foodanddrinkmatters.co.uk/wp-content/uploads/2024/09/ColdChainHub2024_Event.jpg
ORGANIZER;CN="TCS&D":MAILTO:martyn@tcsandd.com
END:VEVENT
END:VCALENDAR