BEGIN:VCALENDAR
VERSION:2.0
PRODID:-//Food &amp; Drink Matters - ECPv6.15.20//NONSGML v1.0//EN
CALSCALE:GREGORIAN
METHOD:PUBLISH
X-ORIGINAL-URL:https://foodanddrinkmatters.co.uk
X-WR-CALDESC:Events for Food &amp; Drink Matters
REFRESH-INTERVAL;VALUE=DURATION:PT1H
X-Robots-Tag:noindex
X-PUBLISHED-TTL:PT1H
BEGIN:VTIMEZONE
TZID:Europe/London
BEGIN:DAYLIGHT
TZOFFSETFROM:+0000
TZOFFSETTO:+0100
TZNAME:BST
DTSTART:20230326T010000
END:DAYLIGHT
BEGIN:STANDARD
TZOFFSETFROM:+0100
TZOFFSETTO:+0000
TZNAME:GMT
DTSTART:20231029T010000
END:STANDARD
BEGIN:DAYLIGHT
TZOFFSETFROM:+0000
TZOFFSETTO:+0100
TZNAME:BST
DTSTART:20240331T010000
END:DAYLIGHT
BEGIN:STANDARD
TZOFFSETFROM:+0100
TZOFFSETTO:+0000
TZNAME:GMT
DTSTART:20241027T010000
END:STANDARD
BEGIN:DAYLIGHT
TZOFFSETFROM:+0000
TZOFFSETTO:+0100
TZNAME:BST
DTSTART:20250330T010000
END:DAYLIGHT
BEGIN:STANDARD
TZOFFSETFROM:+0100
TZOFFSETTO:+0000
TZNAME:GMT
DTSTART:20251026T010000
END:STANDARD
END:VTIMEZONE
BEGIN:VEVENT
DTSTART;TZID=Europe/London:20241015T100000
DTEND;TZID=Europe/London:20241016T160000
DTSTAMP:20260423T115325
CREATED:20240619T113024Z
LAST-MODIFIED:20240722T124327Z
UID:3301-1728986400-1729094400@foodanddrinkmatters.co.uk
SUMMARY:Hospitality Tech Expo 2024
DESCRIPTION:Hospitality professionals across the country are eagerly awaiting the return of Hospitality Tech Expo. Known as Europe’s leading event dedicated to technologies driving hospitality profits\, this trade show and industry conference will return to ExCeL London on the 15th & 16th of October. \nThis year promises to be the event’s most dynamic yet. The expo is set to be attended by thousands of hospitality professionals and venue owners\, ready to gather and explore a vast array of innovative technologies\, ground-breaking ideas\, delivery solutions\, essential services\, and more. The Expo is designed to help businesses discover technological solutions to boost profits\, attract customers\, and retain audiences. It’s an exceptional opportunity to discover emerging trends\, cutting-edge products\, and network with professionals shaping the future of hospitality. \nHospitality Tech Expo 2024 will feature:\n500 Innovative Exhibitors: The show will feature a wide range of exhibitors at the forefront of the industry\, showcasing products and services to give businesses a competitive edge. From the latest point-of-sale systems to super-efficient workforce management platforms\, visitors can expect to find everything they need to elevate operations and improve customer satisfaction. \n200 Inspiring Speakers: Attendees can expect to glean insights and inspiration from the brightest minds in the industry. The lineup of speakers will share expertise on a range of topics\, including digital transformation strategies\, loyalty programs\, employee management\, and more. It’s a great opportunity to learn from the challenges and successes of representatives of the sector’s biggest institutions. \nThought-Provoking Panel Debates: The seminar stages are also set to feature lively discussions on the most pressing issues facing the industry today. These panel debates and discussions offer a platform for thought leaders to discuss and dissect key topics\, providing attendees with a deeper\, more well-rounded understanding of the trends and challenges that could impact your business. \nInnovation Awards: Time is set aside at the show to celebrate the most ground-breaking products and services of the year in an Innovation Awards ceremony. Recognising excellence and creativity\, these awards highlight industry game-changers\, offering a glimpse into the future of technological innovation in hospitality. \nNetworking Opportunities: The event offers attendees the opportunity to connect with like-minded professionals\, industry experts\, and potential partners. The Expo provides countless chances to build relationships\, collaborations\, partnerships\, and business opportunities\, with a diverse yet relevant clientele. \nAdditionally\, the Expo runs alongside six other industry-leading events under the umbrella of The Hospitality B2B Portfolio\, the largest B2B event for the hospitality industry’s growth. This convergence of events offers attendees the ability to get a comprehensive view of the industry\, allowing you to explore diverse opportunities and insights under one roof. \nHospitality Tech Expo is known as being more than just an event; it’s seen by many as a hub for innovation\, education\, and collaboration. For both seasoned industry veterans and newcomers looking to make a mark\, the Expo provides the tools and connections needed to succeed in a competitive marketplace. \nMark your calendars for the 15th & 16th of October at the ExCeL London. Secure your FREE ticket today to take advantage of the countless opportunities on offer to help your hospitality business thrive. Register now and prepare to be inspired\, informed\, and connected at the Hospitality Tech Expo 2024! \nFor more information and to secure your free ticket\, please visit: https://tinyurl.com/ykj77bmv \nWe’ll be in attendance\, so join us in London this October and be part of Europe’s leading event for technology in hospitality settings. We look forward to seeing you there!
URL:https://foodanddrinkmatters.co.uk/event/hospitality-tech-expo-2024-europes-premier-event-for-hospitality-technology-returns-to-excel-london/
LOCATION:ExCeL London\, Royal Victoria Dock\, 1 Western Gateway\, Royal Docks\, London\, E16 1XL\, United Kingdom
ATTACH;FMTTYPE=image/jpeg:https://foodanddrinkmatters.co.uk/wp-content/uploads/2024/06/HospitalityTechExpo_Event3.jpg
END:VEVENT
BEGIN:VEVENT
DTSTART;TZID=Europe/London:20241015T100000
DTEND;TZID=Europe/London:20241016T170000
DTSTAMP:20260423T115325
CREATED:20240130T114555Z
LAST-MODIFIED:20240722T122744Z
UID:3114-1728986400-1729098000@foodanddrinkmatters.co.uk
SUMMARY:The Hospitality B2B Portfolio Expo 2024
DESCRIPTION:The “Hospitality B2B Portfolio” is not just a name; it signifies a mission. This term denotes a foremost combined event that amalgamates seven specialist trade shows under a single umbrella. The acronym “B2B” means “Business-to-Business”\, highlighting that this event is tailored for businesses and professionals across various sectors. \nThe portfolio encompasses the following seven trade shows: Hotel & Resort Innovation Expo\, Street Food Business Expo\, Hospitality Tech Expo\, Cafe Business Expo\, Restaurant & Takeaway Innovation Expo\, Trade Drinks Expo\, and Responsible Packaging Expo. \nThis blend of trade shows fosters invaluable synergies. Attendees and exhibitors from related industries\, but with distinct expertise\, converge at this juncture. This facilitates interdisciplinary dialogue\, bolstering networking and the transfer of knowledge. \nHeld at the esteemed ExCeL London exhibition centre\, the event is an annual occasion\, scheduled either in October or November. It acts as a nexus for specialists from the entire breadth of the hospitality sector. \nFrom its outset\, the Hospitality B2B Portfolio has cemented its position as an essential platform for the industry. The enterprise\, Fortem Food and Drink Ltd.\, oversees the organisation and management of the exhibition\, bringing to bear vast experience in the food and drink domain. \nCentral themes of the trade show encompass innovative strategies for hotels and resorts\, emergent technology trends within the hospitality realm\, up-to-date street-food paradigms\, shifts in coffee and gastronomy\, the newest evolutions in the drinks sector\, and eco-conscious packaging solutions. \nParticular focus is laid on the freshest products\, services\, and technologies showcased for attendees. Exhibitors from domains like hotel and hospitality\, foodservice technology\, street-food ventures\, cafe management\, and the drinks industry offer an exhaustive glance at the prevailing trends and innovations. \nThe event’s attendees consist of entrepreneurs\, sector authorities\, and decision-makers from the said industries\, ever vigilant for novel opportunities\, collaborations\, and insights. \nThe Hospitality B2B Portfolio will take place on 2 days from Tuesday\, 15th October to Wednesday\, 16th October 2024 in London.
URL:https://foodanddrinkmatters.co.uk/event/the-hospitality-b2b-portfolio-expo-2024/
LOCATION:ExCeL London\, Royal Victoria Dock\, 1 Western Gateway\, Royal Docks\, London\, E16 1XL\, United Kingdom
ATTACH;FMTTYPE=image/jpeg:https://foodanddrinkmatters.co.uk/wp-content/uploads/2024/01/TheHospitalityB2BPortfolioExpo_Event.jpg
END:VEVENT
END:VCALENDAR