BEGIN:VCALENDAR
VERSION:2.0
PRODID:-//Food &amp; Drink Matters - ECPv6.15.20//NONSGML v1.0//EN
CALSCALE:GREGORIAN
METHOD:PUBLISH
X-WR-CALNAME:Food &amp; Drink Matters
X-ORIGINAL-URL:https://foodanddrinkmatters.co.uk
X-WR-CALDESC:Events for Food &amp; Drink Matters
REFRESH-INTERVAL;VALUE=DURATION:PT1H
X-Robots-Tag:noindex
X-PUBLISHED-TTL:PT1H
BEGIN:VTIMEZONE
TZID:Europe/London
BEGIN:DAYLIGHT
TZOFFSETFROM:+0000
TZOFFSETTO:+0100
TZNAME:BST
DTSTART:20240331T010000
END:DAYLIGHT
BEGIN:STANDARD
TZOFFSETFROM:+0100
TZOFFSETTO:+0000
TZNAME:GMT
DTSTART:20241027T010000
END:STANDARD
BEGIN:DAYLIGHT
TZOFFSETFROM:+0000
TZOFFSETTO:+0100
TZNAME:BST
DTSTART:20250330T010000
END:DAYLIGHT
BEGIN:STANDARD
TZOFFSETFROM:+0100
TZOFFSETTO:+0000
TZNAME:GMT
DTSTART:20251026T010000
END:STANDARD
BEGIN:DAYLIGHT
TZOFFSETFROM:+0000
TZOFFSETTO:+0100
TZNAME:BST
DTSTART:20260329T010000
END:DAYLIGHT
BEGIN:STANDARD
TZOFFSETFROM:+0100
TZOFFSETTO:+0000
TZNAME:GMT
DTSTART:20261025T010000
END:STANDARD
END:VTIMEZONE
BEGIN:VEVENT
DTSTART;TZID=Europe/London:20250915T090000
DTEND;TZID=Europe/London:20250919T180000
DTSTAMP:20260422T141902
CREATED:20250821T103654Z
LAST-MODIFIED:20250821T103654Z
UID:3843-1757926800-1758304800@foodanddrinkmatters.co.uk
SUMMARY:drinktec
DESCRIPTION:Nowhere else in the world will you find as many world premieres and innovations from all segments of the beverage and liquid food industry as at drinktec! \nWant to know which exhibitors will unveil innovations? Check the official drinktec Innovation Guide ahead of the event to see who’s launching something new in September. \nOn-site\, you’ll uncover the full spectrum of innovation. Scan exclusive QR codes at the venue to explore these developments in detail. \nExperience: \n\nGroundbreaking keynotes & top-class panel discussions on the Wave Stage\nIn-depth\, peer-to peer exchanges in the Deep Dive Lounge\nThe industry’s rising stars in the Startup Zone\nInnovative beverage concepts at the Health Bar\nEngaging Guided Tours on hot industry topics\nExciting award ceremonies with a relaxed sundowner to follow\nLatest research findings showcased on the Science Wall\n\nWhat drives the global beverage and liquid food industry? Exhibitors and visitors have been finding answers to this question at drinktec since 1951. \nGlobal business platform\nAs the world economic summit for the beverage and liquid food industry\, drinktec brings the industry together in Munich every four years over five days. Solution providers and suppliers from all over the world meet national and global producers of beverages and liquid food. Manufacturer of raw materials and ingredients\, supplier of process technology and machinery for filling and packaging of beer\, soft drinks\, water\, fruit juice\, milk and liquid dairy products\, wine\, sparkling wine and spirits as well as ketchup\, soy sauce\, cooking oil and other liquid food products are all represented. \ndrinktec as an impulse generator\ndrinktec sees its task as advancing the global beverage and liquid food industry and creates a space for encounters\, provides a stage for solutions and sets impulses for the future at the Munich Trade Fair Centre. \nStrong partner\nWith its technical expertise and global network\, the VDMA (German Association for mechanical and plant engineering – Verband Deutscher Maschinen- und Anlagenbau e. V.) supports drinktec as a conceptual sponsor.
URL:https://foodanddrinkmatters.co.uk/event/drinktec/
LOCATION:Trade Fair Center Messe München\, Am Messesee 2\, München\, 81829\, Germany
ATTACH;FMTTYPE=image/jpeg:https://foodanddrinkmatters.co.uk/wp-content/uploads/2025/08/Drinktec_187_01.jpg
ORGANIZER;CN="Yontex":MAILTO:exhibitor.drinktec@yontex.com
END:VEVENT
END:VCALENDAR