BEGIN:VCALENDAR
VERSION:2.0
PRODID:-//Food &amp; Drink Matters - ECPv6.15.17.1//NONSGML v1.0//EN
CALSCALE:GREGORIAN
METHOD:PUBLISH
X-ORIGINAL-URL:https://foodanddrinkmatters.co.uk
X-WR-CALDESC:Events for Food &amp; Drink Matters
REFRESH-INTERVAL;VALUE=DURATION:PT1H
X-Robots-Tag:noindex
X-PUBLISHED-TTL:PT1H
BEGIN:VTIMEZONE
TZID:Europe/London
BEGIN:DAYLIGHT
TZOFFSETFROM:+0000
TZOFFSETTO:+0100
TZNAME:BST
DTSTART:20240331T010000
END:DAYLIGHT
BEGIN:STANDARD
TZOFFSETFROM:+0100
TZOFFSETTO:+0000
TZNAME:GMT
DTSTART:20241027T010000
END:STANDARD
BEGIN:DAYLIGHT
TZOFFSETFROM:+0000
TZOFFSETTO:+0100
TZNAME:BST
DTSTART:20250330T010000
END:DAYLIGHT
BEGIN:STANDARD
TZOFFSETFROM:+0100
TZOFFSETTO:+0000
TZNAME:GMT
DTSTART:20251026T010000
END:STANDARD
BEGIN:DAYLIGHT
TZOFFSETFROM:+0000
TZOFFSETTO:+0100
TZNAME:BST
DTSTART:20260329T010000
END:DAYLIGHT
BEGIN:STANDARD
TZOFFSETFROM:+0100
TZOFFSETTO:+0000
TZNAME:GMT
DTSTART:20261025T010000
END:STANDARD
END:VTIMEZONE
BEGIN:VEVENT
DTSTART;TZID=Europe/London:20250621T090000
DTEND;TZID=Europe/London:20250622T180000
DTSTAMP:20260420T084512
CREATED:20240923T095623Z
LAST-MODIFIED:20240923T095623Z
UID:3454-1750496400-1750615200@foodanddrinkmatters.co.uk
SUMMARY:Allergy & Free From Show 2025
DESCRIPTION:The Allergy & Free From Show is the only dedicated health show focused on the free-from market in the UK.  If you lead a free-from lifestyle due to medical needs or lifestyle preferences\, this is the show for you! \nDo you live with allergies\, intolerances\, coeliac disease\, hay fever or eczema? Do you live ‘free from’ gluten\, wheat\, eggs\, nuts or dairy\, or need to avoid dust mites\, latex or any other material? \nIf you answered yes to any of the above\, you will love The Allergy & Free From Show. You can shop hundreds of free-from food\, drink\, lifestyle products and services – all under one roof! From household names to exciting start-up brands\, there is something for everyone. \nThe main stage and live kitchen will host medical experts\, peer influencers and thought leaders ready to educate and entertain you.
URL:https://foodanddrinkmatters.co.uk/event/allergy-free-from-show-2025/
LOCATION:NEC\, Pendigo Way\, Marston Green\, Birmingham\, B40 1NT\, United Kingdom
ATTACH;FMTTYPE=image/jpeg:https://foodanddrinkmatters.co.uk/wp-content/uploads/2024/09/AllergyFreeFromShow2025_Events.jpg
ORGANIZER;CN="Raccoon Media Group":MAILTO:info@raccoonmediagroup.com
END:VEVENT
END:VCALENDAR