BEGIN:VCALENDAR
VERSION:2.0
PRODID:-//Food &amp; Drink Matters - ECPv6.15.20//NONSGML v1.0//EN
CALSCALE:GREGORIAN
METHOD:PUBLISH
X-ORIGINAL-URL:https://foodanddrinkmatters.co.uk
X-WR-CALDESC:Events for Food &amp; Drink Matters
REFRESH-INTERVAL;VALUE=DURATION:PT1H
X-Robots-Tag:noindex
X-PUBLISHED-TTL:PT1H
BEGIN:VTIMEZONE
TZID:Europe/London
BEGIN:DAYLIGHT
TZOFFSETFROM:+0000
TZOFFSETTO:+0100
TZNAME:BST
DTSTART:20240331T010000
END:DAYLIGHT
BEGIN:STANDARD
TZOFFSETFROM:+0100
TZOFFSETTO:+0000
TZNAME:GMT
DTSTART:20241027T010000
END:STANDARD
BEGIN:DAYLIGHT
TZOFFSETFROM:+0000
TZOFFSETTO:+0100
TZNAME:BST
DTSTART:20250330T010000
END:DAYLIGHT
BEGIN:STANDARD
TZOFFSETFROM:+0100
TZOFFSETTO:+0000
TZNAME:GMT
DTSTART:20251026T010000
END:STANDARD
BEGIN:DAYLIGHT
TZOFFSETFROM:+0000
TZOFFSETTO:+0100
TZNAME:BST
DTSTART:20260329T010000
END:DAYLIGHT
BEGIN:STANDARD
TZOFFSETFROM:+0100
TZOFFSETTO:+0000
TZNAME:GMT
DTSTART:20261025T010000
END:STANDARD
END:VTIMEZONE
BEGIN:VEVENT
DTSTART;TZID=Europe/London:20250909T093000
DTEND;TZID=Europe/London:20250910T160000
DTSTAMP:20260422T162124
CREATED:20241022T122156Z
LAST-MODIFIED:20250722T130726Z
UID:3482-1757410200-1757520000@foodanddrinkmatters.co.uk
SUMMARY:Speciality & Fine Food Fair
DESCRIPTION:Over the last 26 years Speciality & Fine Food Fair has built up a rich heritage and has become the home of fine food & drink discovery for buyers from across the retail\, hospitality\, foodservice\, manufacturing\, import & export\, and wholesale sectors. \nWhether you’re looking for product inspiration for your business\, or you’d like to learn the latest trends and insights from top industry experts\, then we’re confident you’ll uncover the ideas you’re searching for at the Fair. \nThe Fair offers an unrivalled opportunity to launch new products\, promote existing products\, and meet an elite range of retail buyers\, hoteliers\, chefs\, independents\, farm shop owners\, restauranteurs\, wholesalers and many more\, all under one roof. Secure your space today! \nThe Speciality & Fine Food Fair Awards champion all that makes our industry such a remarkable and inspiring place. \nWhether you’re looking for product inspiration for your business\, catch up with industry colleagues\, or you’d like to learn the latest trends and insights from top industry experts\, then we’re confident you’ll uncover the ideas you’re searching for at the Fair!
URL:https://foodanddrinkmatters.co.uk/event/speciality-fine-food-fair/
LOCATION:Olympia London\, Hammersmith Rd\, London\, W14 8UX\, United Kingdom
ATTACH;FMTTYPE=image/jpeg:https://foodanddrinkmatters.co.uk/wp-content/uploads/2024/10/SpecialityFineFoodFair_178_01.jpg
ORGANIZER;CN="Montgomery Group":MAILTO:info@montgomerygroup.com
END:VEVENT
END:VCALENDAR